BEGIN:VCALENDAR
VERSION:2.0
PRODID:-//eventon.com NONSGML v1.0//EN
CALSCALE:GREGORIAN
METHOD:PUBLISH
BEGIN:VEVENT
UID:69e8623bce098
DTSTAMP:20260422T055259Z
DTSTART:20250424T170000Z
DTEND:20250424T200000Z
LOCATION:
SUMMARY:Muzyka z Detroit
DESCRIPTION:Muzyczna Podróż do Detroit: Koncert „Muzyka z Detroit” w 
 Klubie pod Papugami Już niedługo\,  20 listopada 2023 roku\,  Klub pod Pa
 pugami zamieni się w prawdziwe centrum soulowego brzmienia\,  które przen
 iesie nas w przestrzenie kultowego Detroit – miasta\,  znanego z niezwyk
 ego bogactwa muzycznego. „Muzyka z Detroit” to zaproszenie na niezapom
 niany wieczór\, [..]\nhttps://www.lepszypoznan.pl/kalendarium-kulturalnych
 -wydarzen/muzyka-z-detroit
URL:https://www.lepszypoznan.pl/kalendarium-kulturalnych-wydarzen/muzyka-z-detroit
END:VEVENT
END:VCALENDAR