BEGIN:VCALENDAR
VERSION:2.0
PRODID:-//eventon.com NONSGML v1.0//EN
CALSCALE:GREGORIAN
METHOD:PUBLISH
BEGIN:VEVENT
UID:69e55dc8ed537
DTSTAMP:20260419T225712Z
DTSTART:20250410T180000Z
DTEND:20250410T200000Z
LOCATION:
SUMMARY:GRANDA | salsa dla początkujących | Salsospontan
DESCRIPTION:Salsa od podstaw w mateczniku poznańskiego latino! Poznań\,  
 miasto pełne kultury i niezapomnianych rytmów\,  nieustannie żyje pasją
  do tańca. W każdy czwartek w sercu miasta odbywa się wydarzenie\,  któ
 re przyciąga zarówno początkujących\,  jak i zaprawionych w tanecznych 
 bojach. Mowa o wyjątkowym kursie salsy\,  który prowadzi charyzmatyczny M
 ateusz Nawrot. To właśnie[..]\nhttps://www.lepszypoznan.pl/kalendarium-ku
 lturalnych-wydarzen/granda-salsa-dla-poczatkujacych-salsospontan-2
URL:https://www.lepszypoznan.pl/kalendarium-kulturalnych-wydarzen/granda-salsa-dla-poczatkujacych-salsospontan-2
END:VEVENT
END:VCALENDAR