BEGIN:VCALENDAR
VERSION:2.0
PRODID:-//eventon.com NONSGML v1.0//EN
CALSCALE:GREGORIAN
METHOD:PUBLISH
BEGIN:VEVENT
UID:69e4cdea39365
DTSTAMP:20260419T124322Z
DTSTART:20250602T170000Z
DTEND:20250602T200000Z
LOCATION:
SUMMARY:SKILLET / 2.06.25 / Skwer Enea Stadion\,  Poznań
DESCRIPTION:Rockowy Powrót Skillet do Polski: Promocja Albumu "Revolution"
  Wielkimi krokami zbliża się jedno z najbardziej oczekiwanych muzycznych 
 wydarzeń tego roku! Multiplatynowy zespół rockowy Skillet\,  znany z ene
 rgetycznych występów i chwytliwych melodii\,  ogłosił swoją trasę kon
 certową\,  która zawita również do Polski. Już 2 czerwca 2024 roku fan
 i będą mieli wyjątkową okazję[..]\nhttps://www.lepszypoznan.pl/kalenda
 rium-kulturalnych-wydarzen/skillet-2-06-25-skwer-enea-stadion-poznan
URL:https://www.lepszypoznan.pl/kalendarium-kulturalnych-wydarzen/skillet-2-06-25-skwer-enea-stadion-poznan
END:VEVENT
END:VCALENDAR