BEGIN:VCALENDAR
VERSION:2.0
PRODID:-//eventon.com NONSGML v1.0//EN
CALSCALE:GREGORIAN
METHOD:PUBLISH
BEGIN:VEVENT
UID:69e54d98e529c
DTSTAMP:20260419T214808Z
DTSTART:20250318T194500Z
DTEND:20250318T214500Z
LOCATION:
SUMMARY:Prawdziwy ból | Sala Audrey | Kino Malta
DESCRIPTION:Prawdziwy ból - Podróż ku pamięci i pojednaniu "Prawdziwy b
 ól" to film\,  który łączy w sobie elementy dramatu i podróżniczej pr
 zygody\,  oferując widzom nie tylko emocjonującą narrację\,  ale także
  głęboką refleksję nad relacjami rodzinnymi i odkrywaniem własnej toż
 samości. Reżyser\,  w świetny sposób balansujący między chwilami wzru
 szenia a dawką humoru\,  zaprasza[..]\nhttps://www.lepszypoznan.pl/kalenda
 rium-kulturalnych-wydarzen/prawdziwy-bol-sala-audrey-kino-malta-32
URL:https://www.lepszypoznan.pl/kalendarium-kulturalnych-wydarzen/prawdziwy-bol-sala-audrey-kino-malta-32
END:VEVENT
END:VCALENDAR