BEGIN:VCALENDAR
VERSION:2.0
PRODID:-//eventon.com NONSGML v1.0//EN
CALSCALE:GREGORIAN
METHOD:PUBLISH
BEGIN:VEVENT
UID:69e66c2be4628
DTSTAMP:20260420T181051Z
DTSTART:20240804T120000Z
DTEND:20240804T140000Z
LOCATION:
SUMMARY:14. Runda Metalkas 2. Ekstraligi: #OrzechowaOsada PSŻ Poznań - Arged Malesa Ostrów Wielkopolski
DESCRIPTION:Derby Wielkopolski: Emocje i rywalizacja w Metalkas 2. Ekstrali
 dze! Niedziela\,  4 sierpnia\,  będzie dniem\,  na który z niecierpliwoś
 cią czekają wszyscy miłośnicy speedway’a w Wielkopolsce oraz nie tylk
 o. Na torze #OrzechowaOsada w Poznaniu dojdzie do emocjonujących derbów\,
   które zapowiadają się jako prawdziwe święto żużla. W starciu o pun
 kty w fazie zasadniczej[..]\nhttps://www.lepszypoznan.pl/kalendarium-kultur
 alnych-wydarzen/14-runda-metalkas-2-ekstraligi-orzechowaosada-psz-poznan-ar
 ged-malesa-ostrow-wielkopolski
URL:https://www.lepszypoznan.pl/kalendarium-kulturalnych-wydarzen/14-runda-metalkas-2-ekstraligi-orzechowaosada-psz-poznan-arged-malesa-ostrow-wielkopolski
END:VEVENT
END:VCALENDAR