BEGIN:VCALENDAR
VERSION:2.0
PRODID:-//eventon.com NONSGML v1.0//EN
CALSCALE:GREGORIAN
METHOD:PUBLISH
BEGIN:VEVENT
UID:69ebbc8eb6e97
DTSTAMP:20260424T185510Z
DTSTART:20220830T100000Z
DTEND:20220904T170000Z
LOCATION:
SUMMARY:Tramwajem przez Europę Środkową
DESCRIPTION:Tydzień Sztuki Ukraińskiej i Polsko-Ukraińska Integracja w C
 entrum Kultury Madalina W ostatnich dniach sierpnia\,  w malowniczej scener
 ii Centrum Kultury Madalina\,  zagościło wiele elementów kultury polskie
 j i ukraińskiej. To niezwykłe wydarzenie przyniosło nie tylko możliwoś
 ć odkrycia bogatej tradycji obu narodów\,  ale także konkretne propozycj
 e edukacyjne dla dzieci i dorosłych. W ramach[..]\nhttps://www.lepszypozna
 n.pl/kalendarium-kulturalnych-wydarzen/tramwajem-przez-europe-srodkowa
URL:https://www.lepszypoznan.pl/kalendarium-kulturalnych-wydarzen/tramwajem-przez-europe-srodkowa
END:VEVENT
END:VCALENDAR