BEGIN:VCALENDAR
VERSION:2.0
PRODID:-//eventon.com NONSGML v1.0//EN
CALSCALE:GREGORIAN
METHOD:PUBLISH
BEGIN:VEVENT
UID:69e714944537d
DTSTAMP:20260421T060924Z
DTSTART:20250307T194000Z
DTEND:20250307T214000Z
LOCATION:
SUMMARY:Kompletnie nieznany | Sala Audrey | Kino Malta
DESCRIPTION:"Kompletnie nieznany": Odkrywanie geniuszu Boba Dylana W świec
 ie filmu\,  niektóre historie są tak niezwykłe\,  że aż same proszą s
 ię o zekranizowanie. Taką historią jest epicka opowieść o jednym z naj
 ważniejszych artystów muzycznych XX wieku – Boba Dylana. W najnowszym d
 ziele Jamesa Mangolda pt. "Kompletnie nieznany" widzowie mają okazję zoba
 czyć\,  jak[..]\nhttps://www.lepszypoznan.pl/kalendarium-kulturalnych-wyda
 rzen/kompletnie-nieznany-sala-audrey-kino-malta-8
URL:https://www.lepszypoznan.pl/kalendarium-kulturalnych-wydarzen/kompletnie-nieznany-sala-audrey-kino-malta-8
END:VEVENT
END:VCALENDAR