BEGIN:VCALENDAR
VERSION:2.0
PRODID:-//eventon.com NONSGML v1.0//EN
CALSCALE:GREGORIAN
METHOD:PUBLISH
BEGIN:VEVENT
UID:69e599e141143
DTSTAMP:20260420T031337Z
DTSTART:20240601T100000Z
DTEND:20240601T120000Z
LOCATION:
SUMMARY:CIL STRZESZYN - Warsztaty z szydełkowania dla młodzieży i dzieci
DESCRIPTION:Kreatywność w sercu Poznania – Warsztaty szydełkowania w P
 arku Camusa Wielu z nas szuka sposobów na rozwijanie swoich pasji\,  odkry
 wanie nowych talentów oraz spędzanie czasu w gronie osób o podobnych zai
 nteresowaniach. W odpowiedzi na te potrzeby\,  już 1 czerwca\,  w malownic
 zym Parku Camusa\,  odbędzie się wyjątkowe wydarzenie – warsztaty szyd
 ełkowania[..]\nhttps://www.lepszypoznan.pl/kalendarium-kulturalnych-wydarz
 en/cil-strzeszyn-warsztaty-z-szydelkowania-dla-mlodziezy-i-dzieci
URL:https://www.lepszypoznan.pl/kalendarium-kulturalnych-wydarzen/cil-strzeszyn-warsztaty-z-szydelkowania-dla-mlodziezy-i-dzieci
END:VEVENT
END:VCALENDAR